BEGIN:VCALENDAR
VERSION:2.0
PRODID:-//Fachschaft Informatik NAK//Monatsmeeting//DE
CALSCALE:GREGORIAN
METHOD:PUBLISH
X-WR-CALNAME:FSINF Monatsmeeting
X-WR-TIMEZONE:Europe/Berlin
BEGIN:VTIMEZONE
TZID:Europe/Berlin
BEGIN:STANDARD
TZOFFSETFROM:+0200
TZOFFSETTO:+0100
TZNAME:CET
DTSTART:19701025T030000
RRULE:FREQ=YEARLY;BYDAY=-1SU;BYMONTH=10
END:STANDARD
BEGIN:DAYLIGHT
TZOFFSETFROM:+0100
TZOFFSETTO:+0200
TZNAME:CEST
DTSTART:19700329T020000
RRULE:FREQ=YEARLY;BYDAY=-1SU;BYMONTH=3
END:DAYLIGHT
END:VTIMEZONE
BEGIN:VEVENT
DTSTART;TZID=Europe/Berlin:20260309T190000
DTEND;TZID=Europe/Berlin:20260309T203000
RRULE:FREQ=MONTHLY;BYDAY=2MO
SUMMARY:FSINF – Monatsmeeting
DESCRIPTION:Monatliches Treffen der Fachschaft Informatik NAK.\n\nJeden zweiten Montag im Monat um 19 Uhr.\n\nJoin Discord: https://discord.gg/MywYj2k7pd
LOCATION:Discord – https://discord.gg/MywYj2k7pd
URL:https://discord.gg/MywYj2k7pd
ORGANIZER;CN=Fachschaft Informatik:mailto:fachschaft-inf-vorstand@nordakademie.de
STATUS:CONFIRMED
SEQUENCE:0
END:VEVENT
END:VCALENDAR
